BEGIN:VCALENDAR
VERSION:2.0
PRODID:-//wp-events-plugin.com//7.2.3.1//EN
BEGIN:VEVENT
UID:481@hackberrycreekchurch.com
DTSTART;TZID=America/Chicago:20241105T180000
DTEND;TZID=America/Chicago:20241105T200000
DTSTAMP:20240722T152603Z
URL:https://hackberrycreekchurch.com/events/3088-2024-10-29/
SUMMARY:Women's Evening Bible Study
DESCRIPTION:Our evening Bible studies has concluded for the summer but plea
 se check back in mid-to-late August for news of what’s to come! As a rem
 inder\, our women’s Bible studies meet at the following times:\n\nEvenin
 g – Every first and third Tuesday evening from 6:00-8:00pm in Patterson
  Hall (dinner and childcare provided)
CATEGORIES:Women's Ministry
END:VEVENT
BEGIN:VTIMEZONE
TZID:America/Chicago
X-LIC-LOCATION:America/Chicago
BEGIN:STANDARD
DTSTART:20241103T010000
TZOFFSETFROM:-0500
TZOFFSETTO:-0600
TZNAME:CST
END:STANDARD
END:VTIMEZONE
END:VCALENDAR