BEGIN:VCALENDAR
VERSION:2.0
PRODID:-//wp-events-plugin.com//7.2.3.1//EN
BEGIN:VEVENT
UID:662@hackberrycreekchurch.com
DTSTART;TZID=America/Chicago:20250305T190000
DTEND;TZID=America/Chicago:20250305T200000
DTSTAMP:20250218T201112Z
URL:https://hackberrycreekchurch.com/events/ash-wednesday-worship-service/
SUMMARY:Ash Wednesday Worship Service
DESCRIPTION:Join us at HCC in the sanctuary on Wednesday\, March 5th as we 
 kick of the season of Lent with our Ash Wednesday Worship Service.
END:VEVENT
BEGIN:VTIMEZONE
TZID:America/Chicago
X-LIC-LOCATION:America/Chicago
BEGIN:STANDARD
DTSTART:20241103T010000
TZOFFSETFROM:-0500
TZOFFSETTO:-0600
TZNAME:CST
END:STANDARD
END:VTIMEZONE
END:VCALENDAR