BEGIN:VCALENDAR
VERSION:2.0
PRODID:-//wp-events-plugin.com//7.2.3.1//EN
BEGIN:VEVENT
UID:1153@hackberrycreekchurch.com
DTSTART;TZID=America/Chicago:20260408T183000
DTEND;TZID=America/Chicago:20260408T203000
DTSTAMP:20260212T155223Z
URL:https://hackberrycreekchurch.com/events/divorce-care-3-2026-02-25-2026
 -03-04-2026-03-11-2026-03-18-2026-03-25-2026-04-01-2026-04-08/
SUMMARY:Divorce Care
DESCRIPTION:DIVORCE CARE: Hurting from the pain of separation or divorce? J
 oin us to discover hope\, help\, and healing!\n\nDates: Every Wednesday\, 
 January 14 – April 15 (excluding Ash Wednesday)\n\nTime: 6:30-8:30 pm\n\
 nWhere: Room 241\n\nCost: $20 for the workbook (Scholarships available)\n\
 nRegistration: https://www.divorcecare.org/groups/273664/registrations/ne
 w
ATTACH;FMTTYPE=image/jpeg:https://hackberrycreekchurch.com/wp-content/uplo
 ads/2026/01/Divorce-Care.jpg
END:VEVENT
BEGIN:VTIMEZONE
TZID:America/Chicago
X-LIC-LOCATION:America/Chicago
BEGIN:DAYLIGHT
DTSTART:20260308T030000
TZOFFSETFROM:-0600
TZOFFSETTO:-0500
TZNAME:CDT
END:DAYLIGHT
END:VTIMEZONE
END:VCALENDAR