BEGIN:VCALENDAR
VERSION:2.0
PRODID:-//wp-events-plugin.com//7.2.3.1//EN
BEGIN:VEVENT
UID:660@hackberrycreekchurch.com
DTSTART;TZID=America/Chicago:20250222T083000
DTEND;TZID=America/Chicago:20250222T120000
DTSTAMP:20250129T200439Z
URL:https://hackberrycreekchurch.com/events/explore-hcc-class/
SUMMARY:Explore HCC Class
DESCRIPTION:This class is designed for our newest regular visitors who are 
 interested in learning more about HCC. Pastor Jonathan will cover the bibl
 ical foundations of the church\, history\, theology\, &amp\; sacraments as
  well as HCC membership. It's a great place to ask questions and learn mor
 e about the DNA of HCC. There is no commitment to join by attending the cl
 ass.\n\nPlease email the church admin\, Stephanie\, if you are ready to re
 gister for this free class. Notify her if childcare is needed (along with 
 the age(s) of your child(ren)).\n\nI'm thankful for y'all worshipping with
  us at HCC and hope to see you at this class in February (and much more be
 fore then too).\n\nWith Joy\, Pastor Jonathan
END:VEVENT
BEGIN:VTIMEZONE
TZID:America/Chicago
X-LIC-LOCATION:America/Chicago
BEGIN:STANDARD
DTSTART:20241103T010000
TZOFFSETFROM:-0500
TZOFFSETTO:-0600
TZNAME:CST
END:STANDARD
END:VTIMEZONE
END:VCALENDAR