BEGIN:VCALENDAR
VERSION:2.0
PRODID:-//wp-events-plugin.com//7.2.3.1//EN
BEGIN:VEVENT
UID:622@hackberrycreekchurch.com
DTSTART;TZID=America/Chicago:20250127T183000
DTEND;TZID=America/Chicago:20250519T200000
DTSTAMP:20250116T183953Z
URL:https://hackberrycreekchurch.com/event-recurring/family-grace-group-7/
SUMMARY:Family Grace Group
DESCRIPTION:Family Grace Group is a discipleship growth experience in a sm
 all group setting\, designed to improve your well-being and share how you 
 can partner alongside a loved-one’s mental health journey. Join us every
  other Monday @ 6:30 pm in Room 241 (starting back up on January 13). Emai
 l Sara Wardrup for any questions.
ATTACH;FMTTYPE=image/jpeg:https://hackberrycreekchurch.com/wp-content/uplo
 ads/2025/01/eBlast-Graphic-1.png
END:VEVENT
BEGIN:VTIMEZONE
TZID:America/Chicago
X-LIC-LOCATION:America/Chicago
BEGIN:STANDARD
DTSTART:20241103T010000
TZOFFSETFROM:-0500
TZOFFSETTO:-0600
TZNAME:CST
END:STANDARD
BEGIN:DAYLIGHT
DTSTART:20250309T030000
TZOFFSETFROM:-0600
TZOFFSETTO:-0500
TZNAME:CDT
END:DAYLIGHT
END:VTIMEZONE
END:VCALENDAR