BEGIN:VCALENDAR
VERSION:2.0
PRODID:-//wp-events-plugin.com//7.2.3.1//EN
BEGIN:VEVENT
UID:907@hackberrycreekchurch.com
DTSTART;TZID=America/Chicago:20250915T183000
DTEND;TZID=America/Chicago:20251124T200000
DTSTAMP:20250924T160043Z
URL:https://hackberrycreekchurch.com/event-recurring/family-grace-group-8/
SUMMARY:Family Grace Group
DESCRIPTION:Family Grace Group is a discipleship growth experience in a sma
 ll group setting designed to improve your well-being and how to partner al
 ongside a loved-one’s mental health journey. We meet every other Monday 
 @ 6:30 pm in the upstairs Room 241\, starting September 15th.\n\nEmail Sar
 a Wardrup for any questions: slwardrup@yahoo.com.
ATTACH;FMTTYPE=image/jpeg:https://hackberrycreekchurch.com/wp-content/uplo
 ads/2025/01/Family-Grace-EBlast-Graphic.png
END:VEVENT
BEGIN:VTIMEZONE
TZID:America/Chicago
X-LIC-LOCATION:America/Chicago
BEGIN:DAYLIGHT
DTSTART:20250309T030000
TZOFFSETFROM:-0600
TZOFFSETTO:-0500
TZNAME:CDT
END:DAYLIGHT
BEGIN:STANDARD
DTSTART:20251102T010000
TZOFFSETFROM:-0500
TZOFFSETTO:-0600
TZNAME:CST
END:STANDARD
END:VTIMEZONE
END:VCALENDAR