BEGIN:VCALENDAR
VERSION:2.0
PRODID:-//wp-events-plugin.com//7.2.3.1//EN
BEGIN:VEVENT
UID:1072@hackberrycreekchurch.com
DTSTART;TZID=America/Chicago:20260330T183000
DTEND;TZID=America/Chicago:20260330T200000
DTSTAMP:20260119T171614Z
URL:https://hackberrycreekchurch.com/events/family-grace-group-9/
SUMMARY:Family Grace Group
DESCRIPTION:Family Grace Group is a discipleship growth experience in a sm
 all group setting designed to improve your well-being and how to partner a
 longside a loved-one’s mental health journey. We typically meet every ot
 her Monday @ 6:30 pm in the upstairs Room 241.\n\nEmail Sara Wardrup for a
 ny questions: slwardrup@yahoo.com.
ATTACH;FMTTYPE=image/jpeg:https://hackberrycreekchurch.com/wp-content/uplo
 ads/2025/01/Family-Grace-EBlast-Graphic.png
END:VEVENT
BEGIN:VTIMEZONE
TZID:America/Chicago
X-LIC-LOCATION:America/Chicago
BEGIN:DAYLIGHT
DTSTART:20260308T030000
TZOFFSETFROM:-0600
TZOFFSETTO:-0500
TZNAME:CDT
END:DAYLIGHT
END:VTIMEZONE
END:VCALENDAR