BEGIN:VCALENDAR
VERSION:2.0
PRODID:-//wp-events-plugin.com//7.2.3.1//EN
BEGIN:VEVENT
UID:1179@hackberrycreekchurch.com
DTSTART;TZID=America/Chicago:20260421T120000
DTEND;TZID=America/Chicago:20260421T123000
DTSTAMP:20260309T200403Z
URL:https://hackberrycreekchurch.com/events/god-listens-zoom-noon-prayer-2
 026-03-10-2026-03-17-2026-03-24-2026-03-31-2026-04-07-2026-04-14-2026-04-2
 1/
SUMMARY:God Listens - Zoom @ Noon Prayer
DESCRIPTION:GOD LISTENS\n\nEver want some Christian community and a little 
 spiritual food over lunch? What if an opportunity to serve others was thro
 wn in? We’d love it if you’d join us for lunchtime prayer.\n\nEvery Tu
 esday\, beginning March 3\, join our Zoom at noon gathering for come &amp\
 ; go prayer. We have a shared devotional or liturgy and prayers for known 
 needs submitted via the prayer chain from 12–12:15 PM\, and open prayer 
 together between 12:15–12:30 PM.\n\nClick here to join the Zoom meeting.
ATTACH;FMTTYPE=image/jpeg:https://hackberrycreekchurch.com/wp-content/uplo
 ads/2026/02/God-Listens-Zoom-no-QR.jpg
END:VEVENT
BEGIN:VTIMEZONE
TZID:America/Chicago
X-LIC-LOCATION:America/Chicago
BEGIN:DAYLIGHT
DTSTART:20260308T030000
TZOFFSETFROM:-0600
TZOFFSETTO:-0500
TZNAME:CDT
END:DAYLIGHT
END:VTIMEZONE
END:VCALENDAR