BEGIN:VCALENDAR
VERSION:2.0
PRODID:-//wp-events-plugin.com//7.2.3.1//EN
BEGIN:VEVENT
UID:1188@hackberrycreekchurch.com
DTSTART;TZID=America/Chicago:20260517T120000
DTEND;TZID=America/Chicago:20260517T130000
DTSTAMP:20260311T165611Z
URL:https://hackberrycreekchurch.com/events/gospel-games-2026-03-15-2026-0
 4-19-2026-05-17/
SUMMARY:Gospel Games
DESCRIPTION:Students in 6th - 8th grade are invited to Gospel Games on t
 he 3rd Sunday each month from 12 – 1 pm beginning Sunday\, March 15. S
 tudents will engage in different competitive activities to help them becom
 e more comfortable with their Bible and how to use it in their daily lives
 . Led by Youth Director Christian Brandon.
ATTACH;FMTTYPE=image/jpeg:https://hackberrycreekchurch.com/wp-content/uplo
 ads/2026/03/Gospel-Games.jpeg
CATEGORIES:Youth Ministry
END:VEVENT
BEGIN:VTIMEZONE
TZID:America/Chicago
X-LIC-LOCATION:America/Chicago
BEGIN:DAYLIGHT
DTSTART:20260308T030000
TZOFFSETFROM:-0600
TZOFFSETTO:-0500
TZNAME:CDT
END:DAYLIGHT
END:VTIMEZONE
END:VCALENDAR