BEGIN:VCALENDAR
VERSION:2.0
PRODID:-//wp-events-plugin.com//7.2.3.1//EN
BEGIN:VEVENT
UID:1039@hackberrycreekchurch.com
DTSTART;TZID=America/Chicago:20260515T190000
DTEND;TZID=America/Chicago:20260515T220000
DTSTAMP:20251218T172036Z
URL:https://hackberrycreekchurch.com/events/hcc-indian-fellowship-family-f
 riday-night-2-2026-01-16-2026-02-20-2026-03-20-2026-04-17-2026-05-15/
SUMMARY:HCC Indian Fellowship: Family Friday Night
DESCRIPTION:HCC INDIAN FELLOWSHIP – Family Friday Night\n7:00 – 10:00pm
CATEGORIES:HCC Indian Fellowship
END:VEVENT
BEGIN:VTIMEZONE
TZID:America/Chicago
X-LIC-LOCATION:America/Chicago
BEGIN:DAYLIGHT
DTSTART:20260308T030000
TZOFFSETFROM:-0600
TZOFFSETTO:-0500
TZNAME:CDT
END:DAYLIGHT
END:VTIMEZONE
END:VCALENDAR