BEGIN:VCALENDAR
VERSION:2.0
PRODID:-//wp-events-plugin.com//7.2.3.1//EN
BEGIN:VEVENT
UID:453@hackberrycreekchurch.com
DTSTART;TZID=America/Chicago:20240719T190000
DTEND;TZID=America/Chicago:20240719T220000
DTSTAMP:20240711T171502Z
URL:https://hackberrycreekchurch.com/events/hcc-indian-fellowship-family-f
 riday-night-2/
SUMMARY:HCC Indian Fellowship: Family Friday Night
DESCRIPTION:\n\nFamily Friday Night\nMonthly on the third Friday\n\n\nPatte
 rson Hall
END:VEVENT
BEGIN:VTIMEZONE
TZID:America/Chicago
X-LIC-LOCATION:America/Chicago
BEGIN:DAYLIGHT
DTSTART:20240310T030000
TZOFFSETFROM:-0600
TZOFFSETTO:-0500
TZNAME:CDT
END:DAYLIGHT
END:VTIMEZONE
END:VCALENDAR