BEGIN:VCALENDAR
VERSION:2.0
PRODID:-//wp-events-plugin.com//7.2.3.1//EN
BEGIN:VEVENT
UID:667@hackberrycreekchurch.com
DTSTART;TZID=America/Chicago:20250315T090000
DTEND;TZID=America/Chicago:20250315T160000
DTSTAMP:20250311T193311Z
URL:https://hackberrycreekchurch.com/events/hcc-indian-fellowship-staar-te
 st-prep-camp-2/
SUMMARY:HCC Indian Fellowship: STAAR Test Prep Camp
DESCRIPTION:HCC:IF Staar Prep - Spring Break Camp\nThursday\, March 13\,\nF
 riday\, March 14\nSaturday\, March 15\n9:00am – 4:00pm\nContact: Sriniva
 s Boddu for information: srinuboddu11@gmail.com
ATTACH;FMTTYPE=image/jpeg:https://hackberrycreekchurch.com/wp-content/uplo
 ads/2025/03/HCC-Indian-Fellowship-2025-STAAR-Workshop-Sunday-Slide-1.jpg
CATEGORIES:HCC Indian Fellowship
END:VEVENT
BEGIN:VTIMEZONE
TZID:America/Chicago
X-LIC-LOCATION:America/Chicago
BEGIN:DAYLIGHT
DTSTART:20250309T030000
TZOFFSETFROM:-0600
TZOFFSETTO:-0500
TZNAME:CDT
END:DAYLIGHT
END:VTIMEZONE
END:VCALENDAR