BEGIN:VCALENDAR
VERSION:2.0
PRODID:-//wp-events-plugin.com//7.2.3.1//EN
BEGIN:VEVENT
UID:988@hackberrycreekchurch.com
DTSTART;TZID=America/Chicago:20260501T200000
DTEND;TZID=America/Chicago:20260501T233000
DTSTAMP:20251218T161700Z
URL:https://hackberrycreekchurch.com/events/hcc-indian-fellowship-worship-
 prayer-night-4-2026-01-02-2026-02-06-2026-03-06-2026-04-03-2026-05-01/
SUMMARY:HCC Indian Fellowship: Worship & Prayer Night
DESCRIPTION:\n\n\nHCC IF – Worship &amp\; Prayer Night\n8:00pm – 11:30p
 m\nMonthly on the first Friday\n\n\n\n\n\n\n\nLocation: Patterson Hall - 
 Fellowship &amp\; Dinner after worship\n
CATEGORIES:HCC Indian Fellowship
END:VEVENT
BEGIN:VTIMEZONE
TZID:America/Chicago
X-LIC-LOCATION:America/Chicago
BEGIN:DAYLIGHT
DTSTART:20260308T030000
TZOFFSETFROM:-0600
TZOFFSETTO:-0500
TZNAME:CDT
END:DAYLIGHT
END:VTIMEZONE
END:VCALENDAR