BEGIN:VCALENDAR
VERSION:2.0
PRODID:-//wp-events-plugin.com//7.2.3.1//EN
BEGIN:VEVENT
UID:987@hackberrycreekchurch.com
DTSTART;TZID=America/Chicago:20260403T190000
DTEND;TZID=America/Chicago:20260403T220000
DTSTAMP:20260401T160211Z
URL:https://hackberrycreekchurch.com/events/hcc-indian-fellowship-worship-
 prayer-night-4-2026-01-02-2026-02-06-2026-03-06-2026-04-03/
SUMMARY:HCC Indian Fellowship: Good Friday Worship
DESCRIPTION:\n\n\nHCC IF – Good Friday Worship Service\n7:00pm – 10:00p
 m\n\n\n\n\n\nLocation: Patterson Hall\n
CATEGORIES:HCC Indian Fellowship
END:VEVENT
BEGIN:VTIMEZONE
TZID:America/Chicago
X-LIC-LOCATION:America/Chicago
BEGIN:DAYLIGHT
DTSTART:20260308T030000
TZOFFSETFROM:-0600
TZOFFSETTO:-0500
TZNAME:CDT
END:DAYLIGHT
END:VTIMEZONE
END:VCALENDAR