BEGIN:VCALENDAR
VERSION:2.0
PRODID:-//wp-events-plugin.com//7.2.3.1//EN
BEGIN:VEVENT
UID:392@hackberrycreekchurch.com
DTSTART;TZID=America/Chicago:20240202T200000
DTEND;TZID=America/Chicago:20240503T000000
DTSTAMP:20240122T185007Z
URL:https://hackberrycreekchurch.com/event-recurring/hcc-indian-fellowship
 -worship-prayer-night/
SUMMARY:HCC Indian Fellowship: Worship & Prayer Night
DESCRIPTION:\n\n\nHCC IF - Worship &amp\; Prayer Night\nMonthly on the firs
 t Friday\n\n\nPatterson Hall\n
CATEGORIES:HCC Indian Fellowship
END:VEVENT
BEGIN:VTIMEZONE
TZID:America/Chicago
X-LIC-LOCATION:America/Chicago
BEGIN:STANDARD
DTSTART:20231105T010000
TZOFFSETFROM:-0500
TZOFFSETTO:-0600
TZNAME:CST
END:STANDARD
BEGIN:DAYLIGHT
DTSTART:20240310T030000
TZOFFSETFROM:-0600
TZOFFSETTO:-0500
TZNAME:CDT
END:DAYLIGHT
END:VTIMEZONE
END:VCALENDAR