BEGIN:VCALENDAR
VERSION:2.0
PRODID:-//wp-events-plugin.com//7.2.3.1//EN
BEGIN:VEVENT
UID:449@hackberrycreekchurch.com
DTSTART;TZID=America/Chicago:20240724T120000
DTEND;TZID=America/Chicago:20240724T140000
DTSTAMP:20240613T150334Z
URL:https://hackberrycreekchurch.com/events/hcc-kids-nerf-nachos/
SUMMARY:HCC Kids: Nerf & Nachos
DESCRIPTION:NERF &amp\; NACHOS\n\nWednesday\, July 24th | Noon – 2 pm | P
 atterson Hall\n\n2nd – 5th grade event\n\nEnjoy an afternoon of nachos a
 nd Nerf play with friends. Kids are asked to bring their own dart blasters
  and accessories. It is highly recommended that kids wear closed toed shoe
 s for running. Don’t forget to wear sunscreen. The event is free. Howeve
 r\, we require participants to register by Monday\, July 22nd. Register HE
 RE.
ATTACH;FMTTYPE=image/jpeg:https://hackberrycreekchurch.com/wp-content/uplo
 ads/2024/06/Nerf-and-Nachos-Event-4-x-4-in-1-400x400-1.png
CATEGORIES:Children's Ministry
END:VEVENT
BEGIN:VTIMEZONE
TZID:America/Chicago
X-LIC-LOCATION:America/Chicago
BEGIN:DAYLIGHT
DTSTART:20240310T030000
TZOFFSETFROM:-0600
TZOFFSETTO:-0500
TZNAME:CDT
END:DAYLIGHT
END:VTIMEZONE
END:VCALENDAR