BEGIN:VCALENDAR
VERSION:2.0
PRODID:-//wp-events-plugin.com//7.2.3.1//EN
BEGIN:VEVENT
UID:448@hackberrycreekchurch.com
DTSTART;TZID=America/Chicago:20240710T120000
DTEND;TZID=America/Chicago:20240710T140000
DTSTAMP:20240613T150140Z
URL:https://hackberrycreekchurch.com/events/hcc-kids-pizza-picasso/
SUMMARY:HCC Kids: Pizza & Picasso
DESCRIPTION:PIZZA &amp\; PICASSO\n\nWednesday\, July 10th | Noon – 2 pm |
  Youth Room\n\n4 year old – 1st grade event\n\nCome join us for an after
 noon of pizza and painting. Kids will participate in various painting proj
 ects and should dress accordingly. The event is free. However\, we require
  participants to register for the event by Monday\, July 8th. Register HER
 E.\n\n&nbsp\;
ATTACH;FMTTYPE=image/jpeg:https://hackberrycreekchurch.com/wp-content/uplo
 ads/2024/06/Pizza-and-Picasso-4-x-4-in-400x400-1.png
CATEGORIES:Children's Ministry
END:VEVENT
BEGIN:VTIMEZONE
TZID:America/Chicago
X-LIC-LOCATION:America/Chicago
BEGIN:DAYLIGHT
DTSTART:20240310T030000
TZOFFSETFROM:-0600
TZOFFSETTO:-0500
TZNAME:CDT
END:DAYLIGHT
END:VTIMEZONE
END:VCALENDAR