BEGIN:VCALENDAR
VERSION:2.0
PRODID:-//wp-events-plugin.com//7.2.3.1//EN
BEGIN:VEVENT
UID:1156@hackberrycreekchurch.com
DTSTART;TZID=America/Chicago:20260211T120000
DTEND;TZID=America/Chicago:20260211T130000
DTSTAMP:20260218T190046Z
URL:https://hackberrycreekchurch.com/events/mens-brown-bag-bible-study-5-2
 026-02-11/
SUMMARY:Men's Brown Bag Bible Study
DESCRIPTION:Men’s Ministry of HCC welcomes all men to study the Book of 
 ACTS together every 2nd and 4th Wednesday of the month over lunch. We me
 et at Washington Pointe on Kinwest Parkway in Irving\, Texas. Bring your
  own lunch. See you there!
ATTACH;FMTTYPE=image/jpeg:https://hackberrycreekchurch.com/wp-content/uplo
 ads/2026/01/High-Alt-Mens-Acts-Study-Jan-2026.jpg
CATEGORIES:Men's Ministry
END:VEVENT
BEGIN:VTIMEZONE
TZID:America/Chicago
X-LIC-LOCATION:America/Chicago
BEGIN:STANDARD
DTSTART:20251102T010000
TZOFFSETFROM:-0500
TZOFFSETTO:-0600
TZNAME:CST
END:STANDARD
END:VTIMEZONE
END:VCALENDAR