BEGIN:VCALENDAR
VERSION:2.0
PRODID:-//wp-events-plugin.com//7.2.3.1//EN
BEGIN:VEVENT
UID:968@hackberrycreekchurch.com
DTSTART;TZID=America/Chicago:20260220T063000
DTEND;TZID=America/Chicago:20260220T073000
DTSTAMP:20251218T160226Z
URL:https://hackberrycreekchurch.com/events/mens-prayer-breakfast-8-2026-0
 1-02-2026-01-09-2026-01-16-2026-01-23-2026-01-30-2026-02-06-2026-02-13-202
 6-02-20/
SUMMARY:Men's Prayer Breakfast
DESCRIPTION:Join us on Zoom: https://zoom.us/j/8933351009 every Friday mor
 ning at 6:30 AM. The first Friday of each month\, we meet in person at McD
 onalds in Coppell. Email Pastor Jonathan for more information and updates.
ATTACH;FMTTYPE=image/jpeg:https://hackberrycreekchurch.com/wp-content/uplo
 ads/2025/07/mens-prayer-breakfast-350x263-1.jpg
CATEGORIES:Men's Ministry,Men's Prayer Breakfast
END:VEVENT
BEGIN:VTIMEZONE
TZID:America/Chicago
X-LIC-LOCATION:America/Chicago
BEGIN:STANDARD
DTSTART:20251102T010000
TZOFFSETFROM:-0500
TZOFFSETTO:-0600
TZNAME:CST
END:STANDARD
END:VTIMEZONE
END:VCALENDAR