BEGIN:VCALENDAR
VERSION:2.0
PRODID:-//wp-events-plugin.com//7.2.3.1//EN
BEGIN:VEVENT
UID:664@hackberrycreekchurch.com
DTSTART;TZID=America/Chicago:20250312T120000
DTEND;TZID=America/Chicago:20250312T130000
DTSTAMP:20250312T125415Z
URL:https://hackberrycreekchurch.com/events/midday-midweek-call-to-prayer/
SUMMARY:Midday Midweek: Call to Prayer
DESCRIPTION:Midday/Midweek Prayer: Every Wednesday in Lent\, we are asking 
 our entire HCC family to pray. HCC will host a brief prayer service in the
  Sanctuary at 12:00 noon\, which anyone can attend\, or you can use a pray
 er guide/journal wherever you find yourself at midday/midweek. We start ne
 xt Wednesday\, March 12.\n\n\nPRAYER BOOKLET
ATTACH;FMTTYPE=image/jpeg:https://hackberrycreekchurch.com/wp-content/uplo
 ads/2025/03/Lent-Midday-Midweek-Prayer-Graphics-scaled.jpg
END:VEVENT
BEGIN:VTIMEZONE
TZID:America/Chicago
X-LIC-LOCATION:America/Chicago
BEGIN:DAYLIGHT
DTSTART:20250309T030000
TZOFFSETFROM:-0600
TZOFFSETTO:-0500
TZNAME:CDT
END:DAYLIGHT
END:VTIMEZONE
END:VCALENDAR