BEGIN:VCALENDAR
VERSION:2.0
PRODID:-//wp-events-plugin.com//7.2.3.1//EN
BEGIN:VEVENT
UID:441@hackberrycreekchurch.com
DTSTART;TZID=America/Chicago;VALUE=DATE:20240512
DTEND;TZID=America/Chicago;VALUE=DATE:20240513
DTSTAMP:20240507T184523Z
URL:https://hackberrycreekchurch.com/events/mothers-day/
SUMMARY:Mother's Day
DESCRIPTION:
END:VEVENT
BEGIN:VTIMEZONE
TZID:America/Chicago
X-LIC-LOCATION:America/Chicago
BEGIN:DAYLIGHT
DTSTART:20240310T030000
TZOFFSETFROM:-0600
TZOFFSETTO:-0500
TZNAME:CDT
END:DAYLIGHT
END:VTIMEZONE
END:VCALENDAR