BEGIN:VCALENDAR
VERSION:2.0
PRODID:-//wp-events-plugin.com//7.2.3.1//EN
BEGIN:VEVENT
UID:442@hackberrycreekchurch.com
DTSTART;TZID=America/Chicago:20240519T000000
DTEND;TZID=America/Chicago:20240519T000000
DTSTAMP:20240513T194057Z
URL:https://hackberrycreekchurch.com/events/pentecost-sunday/
SUMMARY:Pentecost Sunday
DESCRIPTION:Next Sunday\, May 19th\, HCC will celebrate the birthday of the
  church! As red is the traditional color of Pentecost (symbolizing the ton
 gues of fire)\, we invite all who attend worship that day to wear red! At 
 9:30 am we will worship together with the HCC Indian Fellowship &amp\; Ken
 yan Fellowship\, rejoicing in the global family of faith built on the rock
  of Jesus. Following worship\, we will enjoy a generous potluck brunch. Th
 ere will be NO Sunday school that day. To bring a dish to share\, please e
 mail (admin@hackberrycreekchurch.com). We look forward to this wonderful c
 elebration!
ATTACH;FMTTYPE=image/jpeg:https://hackberrycreekchurch.com/wp-content/uplo
 ads/2024/05/gradient-pentecost-illustration_23-2149395037.avif
END:VEVENT
BEGIN:VTIMEZONE
TZID:America/Chicago
X-LIC-LOCATION:America/Chicago
BEGIN:DAYLIGHT
DTSTART:20240310T030000
TZOFFSETFROM:-0600
TZOFFSETTO:-0500
TZNAME:CDT
END:DAYLIGHT
END:VTIMEZONE
END:VCALENDAR