BEGIN:VCALENDAR
VERSION:2.0
PRODID:-//wp-events-plugin.com//7.2.3.1//EN
BEGIN:VEVENT
UID:447@hackberrycreekchurch.com
DTSTART;TZID=America/Chicago:20240612T093000
DTEND;TZID=America/Chicago:20240612T110000
DTSTAMP:20240611T195526Z
URL:https://hackberrycreekchurch.com/events/preschool-playdate-4/
SUMMARY:Preschool Playdate
DESCRIPTION:Patterson Hall
END:VEVENT
BEGIN:VTIMEZONE
TZID:America/Chicago
X-LIC-LOCATION:America/Chicago
BEGIN:DAYLIGHT
DTSTART:20240310T030000
TZOFFSETFROM:-0600
TZOFFSETTO:-0500
TZNAME:CDT
END:DAYLIGHT
END:VTIMEZONE
END:VCALENDAR