BEGIN:VCALENDAR
VERSION:2.0
PRODID:-//wp-events-plugin.com//7.2.3.1//EN
BEGIN:VEVENT
UID:446@hackberrycreekchurch.com
DTSTART;TZID=America/Chicago:20240630T170000
DTEND;TZID=America/Chicago:20240630T180000
DTSTAMP:20240611T194952Z
URL:https://hackberrycreekchurch.com/events/sunday-sundaes/
SUMMARY:Sunday Sundaes
DESCRIPTION:Our annual Ice Cream Social: "Sunday Sundaes" is Sunday\, June 
 30th from 5 to 6 pm. Come for a night of fun &amp\; fellowship! Bring a ga
 llon of your favorite ice cream. Toppings will be provided! For more info\
 , email waltert@hackberrycreekchurch.com.
ATTACH;FMTTYPE=image/jpeg:https://hackberrycreekchurch.com/wp-content/uplo
 ads/2024/06/2024-Sunday-Sundaes-Graphic.png
END:VEVENT
BEGIN:VTIMEZONE
TZID:America/Chicago
X-LIC-LOCATION:America/Chicago
BEGIN:DAYLIGHT
DTSTART:20240310T030000
TZOFFSETFROM:-0600
TZOFFSETTO:-0500
TZNAME:CDT
END:DAYLIGHT
END:VTIMEZONE
END:VCALENDAR