BEGIN:VCALENDAR
VERSION:2.0
PRODID:-//wp-events-plugin.com//7.2.3.1//EN
BEGIN:VEVENT
UID:454@hackberrycreekchurch.com
DTSTART;TZID=America/Chicago:20240807T103000
DTEND;TZID=America/Chicago:20240807T133000
DTSTAMP:20240717T170635Z
URL:https://hackberrycreekchurch.com/events/the-bridge-hawaiian-falls/
SUMMARY:The Bridge @ Hawaiian Falls
DESCRIPTION:Email Elaine Eazor for details: elaineeazor@yahoo.com.\n\n&nbsp
 \;
END:VEVENT
BEGIN:VTIMEZONE
TZID:America/Chicago
X-LIC-LOCATION:America/Chicago
BEGIN:DAYLIGHT
DTSTART:20240310T030000
TZOFFSETFROM:-0600
TZOFFSETTO:-0500
TZNAME:CDT
END:DAYLIGHT
END:VTIMEZONE
END:VCALENDAR