BEGIN:VCALENDAR
VERSION:2.0
PRODID:-//wp-events-plugin.com//7.2.3.1//EN
BEGIN:VEVENT
UID:443@hackberrycreekchurch.com
DTSTART;TZID=America/Chicago:20240606T173000
DTEND;TZID=America/Chicago:20240606T193000
DTSTAMP:20240529T191030Z
URL:https://hackberrycreekchurch.com/events/vbs-final-program-celebration/
SUMMARY:VBS Final Program Celebration
DESCRIPTION:VBS Families AND HCC Church Family: If you want to see what the
  VBS excitement is all about\, join us on Thursday night\, June 6th for 
 the final program! Bring the whole family to our celebration (5:30 PM)\, w
 hich will include family fun (bounce house\, popsicles\, etc.) and dinner 
 (provided by our church family) as an outreach to the young families regis
 tered. Then head over to the sanctuary at 7 PM for the final VBS program !
  To join in the fun AND help please sign up to bring a dish HERE. See you
  there!
END:VEVENT
BEGIN:VTIMEZONE
TZID:America/Chicago
X-LIC-LOCATION:America/Chicago
BEGIN:DAYLIGHT
DTSTART:20240310T030000
TZOFFSETFROM:-0600
TZOFFSETTO:-0500
TZNAME:CDT
END:DAYLIGHT
END:VTIMEZONE
END:VCALENDAR