BEGIN:VCALENDAR
VERSION:2.0
PRODID:-//wp-events-plugin.com//7.2.3.1//EN
BEGIN:VEVENT
UID:661@hackberrycreekchurch.com
DTSTART;TZID=America/Chicago:20250223T120000
DTEND;TZID=America/Chicago:20250223T150000
DTSTAMP:20250129T201544Z
URL:https://hackberrycreekchurch.com/events/youth-compassionate-crafters-s
 ervice-day/
SUMMARY:Youth & Compassionate Crafters Service Day
DESCRIPTION:On Sunday\, February 23 from 12:00 - 3:00 pm\, youth are encou
 raged to serve their church both alongside the Compassionate Crafters' min
 istry and on an outdoor work project @ HCC. Students should wear or bring 
 a change of work clothes\; lunch will be provided. Please click here to RS
 VP! There will be no Bridge Bible Study on February 23rd\; all students ar
 e encouraged to assist in the Service Day. 
ATTACH;FMTTYPE=image/jpeg:https://hackberrycreekchurch.com/wp-content/uplo
 ads/2025/01/Youth-Compassionate-Crafters-Service-Day.jpg
CATEGORIES:Youth Ministry
END:VEVENT
BEGIN:VTIMEZONE
TZID:America/Chicago
X-LIC-LOCATION:America/Chicago
BEGIN:STANDARD
DTSTART:20241103T010000
TZOFFSETFROM:-0500
TZOFFSETTO:-0600
TZNAME:CST
END:STANDARD
END:VTIMEZONE
END:VCALENDAR