BEGIN:VCALENDAR
VERSION:2.0
PRODID:-//wp-events-plugin.com//7.2.3.1//EN
BEGIN:VEVENT
UID:1197@hackberrycreekchurch.com
DTSTART;TZID=America/Chicago:20260426T120000
DTEND;TZID=America/Chicago:20260426T140000
DTSTAMP:20260423T135820Z
URL:https://hackberrycreekchurch.com/events/youth-xl-games/
SUMMARY:Youth XL Games
DESCRIPTION:On Sunday\, April 26\, from 12 - 2pm\, 6th-12th grade students
  are invited to compete in the XL Games! Play games such as soccer\, kic
 kball\, and bowling - using balls much\, much bigger than normal. Wear act
 ive clothing! Lunch provided. RSVP to Youth Director\, Christian Brandon.
ATTACH;FMTTYPE=image/jpeg:https://hackberrycreekchurch.com/wp-content/uplo
 ads/2026/04/XL-Games-2026.jpeg
CATEGORIES:Youth Ministry
END:VEVENT
BEGIN:VTIMEZONE
TZID:America/Chicago
X-LIC-LOCATION:America/Chicago
BEGIN:DAYLIGHT
DTSTART:20260308T030000
TZOFFSETFROM:-0600
TZOFFSETTO:-0500
TZNAME:CDT
END:DAYLIGHT
END:VTIMEZONE
END:VCALENDAR